BEGIN:VCALENDAR
PRODID:-//AT Content Types//AT Event//EN
VERSION:1.0
BEGIN:VEVENT
DTSTART:20190316T073000Z
DTEND:20190316T153000Z
DCREATED:20190307T083743Z
UID:ATEvent-32e7d05c6ccc43f99a219aa5b2b86e91
SEQUENCE:0
LAST-MODIFIED:20190307T083751Z
SUMMARY:Portes Ouvertes de l'Ensemble scolaire J. d'Arc - Argentat
LOCATION:Argentat
PRIORITY:3
TRANSP:0
END:VEVENT
END:VCALENDAR
