BEGIN:VCALENDAR
PRODID:-//AT Content Types//AT Event//EN
VERSION:2.0
METHOD:PUBLISH
BEGIN:VEVENT
DTSTAMP:20260421T130043Z
CREATED:20210701T075942Z
UID:ATEvent-18856cfff0bf4c02bbcef02975eddab6
LAST-MODIFIED:20210701T075949Z
SUMMARY:Portes ouvertes de l'Ensemble N.Dame de la Providence USSEL
DTSTART:20210705T140000Z
DTEND:20210705T180000Z
CONTACT:05 55 72 11 33\, administration@notredame-ussel.fr
CLASS:PUBLIC
END:VEVENT
END:VCALENDAR
