BEGIN:VCALENDAR
PRODID:-//AT Content Types//AT Event//EN
VERSION:2.0
METHOD:PUBLISH
BEGIN:VEVENT
DTSTAMP:20260423T003853Z
CREATED:20230201T164522Z
UID:ATEvent-755ed84557f143d590605e09a84129ac
LAST-MODIFIED:20230201T164538Z
SUMMARY:Portes ouvertes de l'Ecole Sainte Marie Tulle
DTSTART:20230325T090000Z
DTEND:20230325T110000Z
LOCATION:Tulle
CONTACT:Mme Emmanuelle Matray\, 05 55 20 78 40
CLASS:PUBLIC
END:VEVENT
END:VCALENDAR
