BEGIN:VCALENDAR
PRODID:-//AT Content Types//AT Event//EN
VERSION:2.0
METHOD:PUBLISH
BEGIN:VEVENT
DTSTAMP:20260419T193559Z
CREATED:20210827T074945Z
UID:ATEvent-f51d706c5faf4f90ae34bd586b7ade0b
LAST-MODIFIED:20210827T074953Z
SUMMARY:Pèlerinage Notre Dame du Deveix
DTSTART:20210911T220000Z
DTEND:20210911T220000Z
DESCRIPTION:Messe à 16h00 à la chapelle.
LOCATION:Combressol
CLASS:PUBLIC
END:VEVENT
END:VCALENDAR
