BEGIN:VCALENDAR
PRODID:-//AT Content Types//AT Event//EN
VERSION:1.0
BEGIN:VEVENT
DTSTART:20220906T220000Z
DTEND:20220907T220000Z
DCREATED:20210831T115834Z
UID:ATEvent-598ddc76413c417cb6b2bcf620c186a3
SEQUENCE:0
LAST-MODIFIED:20220826T073145Z
SUMMARY:Pèlerinage Notre-Dame de St Cyr-La-Roche
DESCRIPTION:Pèlerinage à N.Dame de Saint-Cyr la Roche « Marie\, rei
 ne de la paix »
LOCATION:Saint-Cyr-La-Roche
PRIORITY:3
TRANSP:0
END:VEVENT
END:VCALENDAR
