BEGIN:VCALENDAR
PRODID:-//AT Content Types//AT Event//EN
VERSION:2.0
METHOD:PUBLISH
BEGIN:VEVENT
DTSTAMP:20260422T080545Z
CREATED:20190318T094130Z
UID:ATEvent-1ba7ffe4526e4b4495096f668189b0e3
LAST-MODIFIED:20190318T094137Z
SUMMARY:Pèlerinage Lourdes Cancer Espérance
DTSTART:20190916T220000Z
DTEND:20190920T220000Z
DESCRIPTION:Il sera présidé par Monseigneur Jean-Christophe Lagleize
 \, évêque de Metz\, et animé par Steeve Gernez
LOCATION:Lourdes
CONTACT:Mme AMBERNY\,  05 55 96 13 61
CLASS:PUBLIC
END:VEVENT
END:VCALENDAR
