BEGIN:VCALENDAR
PRODID:-//AT Content Types//AT Event//EN
VERSION:2.0
METHOD:PUBLISH
BEGIN:VEVENT
DTSTAMP:20260423T115505Z
CREATED:20180213T102212Z
UID:ATEvent-e19530ac279d493f898953dca2785b55
LAST-MODIFIED:20180213T102310Z
SUMMARY:Pèlerinage LOURDES CANCER ESPERANCE
DTSTART:20180917T220000Z
DTEND:20180921T220000Z
DESCRIPTION:Le prochain pèlerinage se déroulera du mardi 18 au samed
 i 22 septembre 2018. Il sera animé par François Rodier.
LOCATION:Lourdes
CONTACT:Mme Monique Amberny\, 05 55 96 13 61
CLASS:PUBLIC
END:VEVENT
END:VCALENDAR
