BEGIN:VCALENDAR
PRODID:-//AT Content Types//AT Event//EN
VERSION:1.0
BEGIN:VEVENT
DTSTART:20190430T220000Z
DTEND:20190510T220000Z
DCREATED:20180426T130518Z
UID:ATEvent-14998083a58c4ba5bdc118201edf89d9
SEQUENCE:0
LAST-MODIFIED:20190122T134526Z
SUMMARY:Pèlerinage en Jordanie et Israël
LOCATION:Jordanie et Israël
PRIORITY:3
TRANSP:0
END:VEVENT
END:VCALENDAR
