BEGIN:VCALENDAR
PRODID:-//AT Content Types//AT Event//EN
VERSION:1.0
BEGIN:VEVENT
DTSTART:20240502T220000Z
DTEND:20240504T220000Z
DCREATED:20230417T150222Z
UID:ATEvent-d8aebbc1692b400a841357a41feceea4
SEQUENCE:0
LAST-MODIFIED:20240422T081822Z
SUMMARY:21ème Pèlerinage des pères de familles
DESCRIPTION:Le thème de cette année : l’interprétation des Écrit
 ures Saintes dans l’Église.
LOCATION:Brive Rocamadour
PRIORITY:3
TRANSP:0
END:VEVENT
END:VCALENDAR
