BEGIN:VCALENDAR
PRODID:-//AT Content Types//AT Event//EN
VERSION:1.0
BEGIN:VEVENT
DTSTART:20180928T220000Z
DTEND:20180929T220000Z
DCREATED:20180906T102701Z
UID:ATEvent-9e519156c2814c649c18a6d3202130cd
SEQUENCE:0
LAST-MODIFIED:20181001T135134Z
SUMMARY:Pèlerinage des mères de famille
DESCRIPTION:D'Aubazine à la cathédrale de Tulle à l'occasion de la 
 clôture du Jubilé.
LOCATION:d'Aubazine à Tulle
PRIORITY:3
TRANSP:0
END:VEVENT
END:VCALENDAR
