BEGIN:VCALENDAR
PRODID:-//AT Content Types//AT Event//EN
VERSION:2.0
METHOD:PUBLISH
BEGIN:VEVENT
DTSTAMP:20260419T152507Z
CREATED:20190827T081521Z
UID:ATEvent-c8e5389805a842d68309899609c9951a
LAST-MODIFIED:20190827T082405Z
SUMMARY:Pèlerinage de Saint-Cyr-La-Roche
DTSTART:20190907T081500Z
DTEND:20190908T081500Z
LOCATION:Saint-Cyr-La-Roche
CONTACT:Communauté locale d'Objat-Allassac-Uzerche\, 05 87 49 72 48
CLASS:PUBLIC
END:VEVENT
END:VCALENDAR
