BEGIN:VCALENDAR
PRODID:-//AT Content Types//AT Event//EN
VERSION:1.0
BEGIN:VEVENT
DTSTART:20220919T220000Z
DTEND:20220923T220000Z
DCREATED:20220701T091139Z
UID:ATEvent-0830963a4c7f4b48a155af07422e63f1
SEQUENCE:0
LAST-MODIFIED:20220701T091337Z
SUMMARY:Pèlerinage de Lourdes Cancer Espérance
DESCRIPTION:Tous les ans\, au mois de septembre\, l'association organi
 se un pèlerinage à Lourdes\, qui permet de se ressourcer\, de prier 
 et de témoigner de sa foi. Le pèlerinage s'adresse à tous ceux qui 
 sont concernés par la maladie\, qu'ils soient touchés personnellemen
 t ou à travers l'histoire d'un proche.
LOCATION:Lourdes
PRIORITY:3
TRANSP:0
END:VEVENT
END:VCALENDAR
