BEGIN:VCALENDAR
PRODID:-//AT Content Types//AT Event//EN
VERSION:1.0
BEGIN:VEVENT
DTSTART:20200907T160000Z
DTEND:20200908T130000Z
DCREATED:20200804T085035Z
UID:ATEvent-2c7b043c67764d798488ab20fbc0cf18
SEQUENCE:0
LAST-MODIFIED:20200901T074929Z
SUMMARY:Pèlerinage à Saint-Cyr-la-Roche
DESCRIPTION:Pèlerinage à Saint-Cyr la Roche en l'honneur de la Vierg
 e Marie
LOCATION:Saint-Cyr-la-Roche
PRIORITY:3
TRANSP:0
END:VEVENT
END:VCALENDAR
