BEGIN:VCALENDAR
PRODID:-//AT Content Types//AT Event//EN
VERSION:2.0
METHOD:PUBLISH
BEGIN:VEVENT
DTSTAMP:20260422T163851Z
CREATED:20170818T184152Z
UID:ATEvent-8eaf962b848c4af2b81b4117ef052acc
LAST-MODIFIED:20170907T082248Z
SUMMARY:Pèlerinage à Notre-Dame du  Pont du Salut
DTSTART:20170908T084500Z
DTEND:20170908T200000Z
LOCATION:CORREZE Notre-Dame du Pont du Salut
CLASS:PUBLIC
END:VEVENT
END:VCALENDAR
