BEGIN:VCALENDAR
PRODID:-//AT Content Types//AT Event//EN
VERSION:2.0
METHOD:PUBLISH
BEGIN:VEVENT
DTSTAMP:20260423T202018Z
CREATED:20170817T113516Z
UID:ATEvent-e533b008481b41b3bbe2eb86c68533b8
LAST-MODIFIED:20170830T142946Z
SUMMARY:Pèlerinage à Notre-Dame du Deveix (Combressol)
DTSTART:20170903T123000Z
DTEND:20170903T123000Z
CONTACT:Ludovic\, 06.85.84.29.57
CLASS:PUBLIC
END:VEVENT
END:VCALENDAR
