BEGIN:VCALENDAR
PRODID:-//AT Content Types//AT Event//EN
VERSION:2.0
METHOD:PUBLISH
BEGIN:VEVENT
DTSTAMP:20260422T212506Z
CREATED:20170720T073102Z
UID:ATEvent-ea73fb5f916e41ba808e9dbc02c11904
LAST-MODIFIED:20170817T124058Z
SUMMARY:Pèlerinage à Notre-Dame d'Eygurande
DTSTART:20170829T070000Z
DTEND:20170903T100000Z
CONTACT:Abbés V. Damian et J.F. Barlier
CLASS:PUBLIC
END:VEVENT
END:VCALENDAR
