BEGIN:VCALENDAR
PRODID:-//AT Content Types//AT Event//EN
VERSION:1.0
BEGIN:VEVENT
DTSTART:20220815T083000Z
DTEND:20220815T083000Z
DCREATED:20220701T082117Z
UID:ATEvent-b51d4a34ef9a495d9b68b69ecdd20ec1
SEQUENCE:0
LAST-MODIFIED:20220802T194456Z
SUMMARY:Pèlerinage à Notre-Dame de Pennacorn
DESCRIPTION:Procession mariale suivie de la messe à 10h30. Apéritif 
 offert suivi d'une pique-nique tiré du sac. 16h00 : Chapelet médité
  à Neuvic\, suivi des vêpres.
LOCATION:Neuvic
PRIORITY:3
TRANSP:0
END:VEVENT
END:VCALENDAR
