BEGIN:VCALENDAR
PRODID:-//AT Content Types//AT Event//EN
VERSION:1.0
BEGIN:VEVENT
DTSTART:20170904T163000Z
DTEND:20170910T103000Z
DCREATED:20170822T075337Z
UID:ATEvent-c22e5420a3eb457d8b45586cb5f2fceb
SEQUENCE:0
LAST-MODIFIED:20170822T075349Z
SUMMARY:Pèlerinage à Notre-Dame de la Chabanne
PRIORITY:3
TRANSP:0
END:VEVENT
END:VCALENDAR
