BEGIN:VCALENDAR
PRODID:-//AT Content Types//AT Event//EN
VERSION:1.0
BEGIN:VEVENT
DTSTART:20180501T090000Z
DTEND:20180501T090000Z
DCREATED:20180427T083054Z
UID:ATEvent-8117c3681f00488b979bb0193ccce74e
SEQUENCE:0
LAST-MODIFIED:20180427T083102Z
SUMMARY:Pèlerinage à Notre-Dame de la Bussière
PRIORITY:3
TRANSP:0
END:VEVENT
END:VCALENDAR
