BEGIN:VCALENDAR
PRODID:-//AT Content Types//AT Event//EN
VERSION:2.0
METHOD:PUBLISH
BEGIN:VEVENT
DTSTAMP:20260419T205348Z
CREATED:20180518T074302Z
UID:ATEvent-d33d3595fabb42c6839bff3501021ac2
LAST-MODIFIED:20180518T074307Z
SUMMARY:Pèlerinage à Notre-Dame de Chastres (Bar)
DTSTART:20180521T083000Z
DTEND:20180521T083000Z
DESCRIPTION:Pèlerinage et messe
LOCATION:Bar Notre-Dame de Chastres
CONTACT:Abbé Jaroslaw Kucharsky\, 05 55 21 30 71
CLASS:PUBLIC
END:VEVENT
END:VCALENDAR
