BEGIN:VCALENDAR
PRODID:-//AT Content Types//AT Event//EN
VERSION:1.0
BEGIN:VEVENT
DTSTART:20210530T063000Z
DTEND:20210530T063000Z
DCREATED:20190514T082726Z
UID:ATEvent-1529d04cc2c14d5d8d956d12057bfdbc
SEQUENCE:0
LAST-MODIFIED:20210518T084411Z
SUMMARY:Pèlerinage à Notre-Dame de Ceyrat
DESCRIPTION:Pèlerinage à Ceyrat
LOCATION:Objat
PRIORITY:3
TRANSP:0
END:VEVENT
END:VCALENDAR
