BEGIN:VCALENDAR
PRODID:-//AT Content Types//AT Event//EN
VERSION:1.0
BEGIN:VEVENT
DTSTART:20180909T090000Z
DTEND:20180909T125500Z
DCREATED:20180820T130541Z
UID:ATEvent-e38f545ab7e94ad293132cbb897bed49
SEQUENCE:0
LAST-MODIFIED:20180820T130547Z
SUMMARY:Pèlerinage à ND de Pennacorn (Neuvic)
DESCRIPTION:
LOCATION:Chapelle du lieu dit "Pennacorn "
PRIORITY:3
TRANSP:0
END:VEVENT
END:VCALENDAR
