BEGIN:VCALENDAR
PRODID:-//AT Content Types//AT Event//EN
VERSION:2.0
METHOD:PUBLISH
BEGIN:VEVENT
DTSTAMP:20260420T230624Z
CREATED:20180820T124828Z
UID:ATEvent-a2aae61d324144a0b6a15e3660bbc696
LAST-MODIFIED:20180820T124944Z
SUMMARY:Pèlerinage à ND de La Chabanne à Ussel
DTSTART:20180903T163000Z
DTEND:20180909T100000Z
LOCATION:Ussel Notre Dame de la Chabanne
CONTACT:Presbytère d'Ussel\, 05 55 72 11 34
CLASS:PUBLIC
END:VEVENT
END:VCALENDAR
