BEGIN:VCALENDAR
PRODID:-//AT Content Types//AT Event//EN
VERSION:1.0
BEGIN:VEVENT
DTSTART:20250817T070000Z
DTEND:20250821T150000Z
DCREATED:20250409T083114Z
UID:ATEvent-1a9fe80c4c894512b7fbb60b7828192c
SEQUENCE:0
LAST-MODIFIED:20250901T081814Z
SUMMARY:Pèlerinage à Lourdes
DESCRIPTION:Un temps de grâce auprès de la Vierge Marie en cette ann
 ée jubilaire. Pèlerinage diocésain & pèlerinage de Hospitalité.
LOCATION:Lourdes
PRIORITY:3
TRANSP:0
END:VEVENT
END:VCALENDAR
