BEGIN:VCALENDAR
PRODID:-//AT Content Types//AT Event//EN
VERSION:2.0
METHOD:PUBLISH
BEGIN:VEVENT
DTSTAMP:20260419T234716Z
CREATED:20250428T082810Z
UID:ATEvent-19122a49b8704380b98faa4605767db7
LAST-MODIFIED:20250428T082850Z
SUMMARY:Parcours Saint Paul : Conférence sur "Nos chers écrans..."
DTSTART:20250506T183000Z
DTEND:20250506T183000Z
DESCRIPTION:Conférence sur « Nos chers écrans : sont-ils un problè
 me ? "
LOCATION:Brive Centre paroissial Saint Sernin
CONTACT:- 09 62 24 95 50
CLASS:PUBLIC
END:VEVENT
END:VCALENDAR
