BEGIN:VCALENDAR
PRODID:-//AT Content Types//AT Event//EN
VERSION:2.0
METHOD:PUBLISH
BEGIN:VEVENT
DTSTAMP:20260421T222402Z
CREATED:20180927T081251Z
UID:ATEvent-804c2970ce7440299d038c0b724135f1
LAST-MODIFIED:20221201T103726Z
SUMMARY:Parcours de découverte franciscaine
DTSTART:20221217T150000Z
DTEND:20221217T163000Z
DESCRIPTION:Découvrir ensemble les grands axes de la spiritualité fr
 anciscaine : Saint François et Sainte Claire\, la fraternité\, la m
 inorité et la pauvreté\, la prière\, l’église\, l’Eucharistie\
 , la mission…\nAnimé par frère Danick et Bruno Delforge.
LOCATION:Brive Grottes St Antoine
CONTACT:Grottes Saint Antoine\, 05 55 24 10 60
CLASS:PUBLIC
END:VEVENT
END:VCALENDAR
