BEGIN:VCALENDAR
PRODID:-//AT Content Types//AT Event//EN
VERSION:2.0
METHOD:PUBLISH
BEGIN:VEVENT
DTSTAMP:20260419T152415Z
CREATED:20250414T073055Z
UID:ATEvent-70f9aac9050c4b1fb43f2b12dfd1e1ff
LAST-MODIFIED:20250414T073104Z
SUMMARY:Ouverture exceptionnelle des boutiques du Secours Catholique de Brive
DTSTART:20250517T070000Z
DTEND:20250517T110000Z
DESCRIPTION:Le Secours Catholique de Brive vous informe de l'ouverture
  exceptionnelle de ses boutiques\, bric-à-brac et boutique solidaire 
 les samedi 17 mai et 5 juillet 2025\, 16 rue jean Fieyre à Brive de 9
 h à 13h\;
LOCATION:Secours Catholique de Brive 16 rue Jean Fieyre
CONTACT:05 87 49 07 29\, brive.870@secours-catholique.org
CLASS:PUBLIC
END:VEVENT
END:VCALENDAR
