BEGIN:VCALENDAR
PRODID:-//AT Content Types//AT Event//EN
VERSION:1.0
BEGIN:VEVENT
DTSTART:20210918T073000Z
DTEND:20210918T133000Z
DCREATED:20210823T120927Z
UID:ATEvent-9acea32a370043a38991033ded8ea32a
SEQUENCE:0
LAST-MODIFIED:20210920T135202Z
SUMMARY:Ouverture de la démarche synodale diocésaine
DESCRIPTION:Elle s'ouvrira par une assemblée diocésaine des "acteurs
  pastoraux". Ouverture de la démarche synodale\, intervention de l'ab
 bé Christian Delarbre (théologien\, recteur de l'Institut Catholique
  de Toulouse).
LOCATION:Brive espace Pierre Ceyrac
PRIORITY:3
TRANSP:0
END:VEVENT
END:VCALENDAR
