BEGIN:VCALENDAR
PRODID:-//AT Content Types//AT Event//EN
VERSION:2.0
METHOD:PUBLISH
BEGIN:VEVENT
DTSTAMP:20260420T011816Z
CREATED:20190527T084701Z
UID:ATEvent-f454d501ad3c420b84247ea24724afb5
LAST-MODIFIED:20190617T100104Z
SUMMARY:Ordination sacerdotale de David Wosinsky
DTSTART:20190616T133000Z
DTEND:20190616T133000Z
DESCRIPTION:Un an après son ordination diaconale\, David Wosinsky ser
 a "appelé" à être ordonné prêtre\, par Mgr Bestion. Il célébrer
 a sa première messe LE LUNDI 17 JUIN\, à l'église Saint Joseph de S
 ouilhac\, à 12 h.
LOCATION:Tulle Cathédrale
CONTACT:Presbytère de la Cathédrale\, 05 55 26 71 72
CLASS:PUBLIC
END:VEVENT
END:VCALENDAR
