BEGIN:VCALENDAR
PRODID:-//AT Content Types//AT Event//EN
VERSION:1.0
BEGIN:VEVENT
DTSTART:20250424T163000Z
DTEND:20250424T173000Z
DCREATED:20250422T141547Z
UID:ATEvent-6a77dcf4cc6644cd9f8e0af6adaf030c
SEQUENCE:0
LAST-MODIFIED:20250422T143151Z
SUMMARY:Messe en mémoire du pape François
DESCRIPTION:Mgr Éric Bidot\, évêque nommé de Tulle\, de passage en
  Corrèze\, célèbrera une messe en mémoire du Pape François\, ce j
 eudi 24 avril à 18h30\, en la cathédrale de Tulle.
LOCATION:Cathédrale de Tulle
PRIORITY:3
TRANSP:0
END:VEVENT
END:VCALENDAR
