BEGIN:VCALENDAR
PRODID:-//AT Content Types//AT Event//EN
VERSION:2.0
METHOD:PUBLISH
BEGIN:VEVENT
DTSTAMP:20260424T203915Z
CREATED:20221003T144744Z
UID:ATEvent-35508d01547d4c5089a2c00cd879853d
LAST-MODIFIED:20221003T144752Z
SUMMARY:Messe d'installation des Servantes des Pauvres à Brive Estavel
DTSTART:20221004T163000Z
DTEND:20221004T163000Z
DESCRIPTION:Trois religieuses de la communauté des Servantes des Pauv
 res s’installe à Estavel. A l’issue de la messe\, toute la commun
 auté d’Estavel vous invite à partager un banquet auquel vous pouve
 z contribuer en apportant des bouchées salées ou sucrées.
LOCATION:Brive Estavel
CLASS:PUBLIC
END:VEVENT
END:VCALENDAR
