BEGIN:VCALENDAR
PRODID:-//AT Content Types//AT Event//EN
VERSION:1.0
BEGIN:VEVENT
DTSTART:20211010T073000Z
DTEND:20211010T073000Z
DCREATED:20211006T092407Z
UID:ATEvent-5d78a9b7a3a74fe498a0398d893d30f2
SEQUENCE:0
LAST-MODIFIED:20211006T092414Z
SUMMARY:Messe de rentrÃ©e paroissiale Ã  Ussac
DESCRIPTION:Nous associant Ã  la fÃªte de la nature\,  nous louerons e
 t bÃ©nirons le Seigneur pour tous ses bienfaits  et pour les dons quâ€
 ™ils nous procurent en abondance
LOCATION:Ussac
PRIORITY:3
TRANSP:0
END:VEVENT
END:VCALENDAR
