BEGIN:VCALENDAR
PRODID:-//AT Content Types//AT Event//EN
VERSION:2.0
METHOD:PUBLISH
BEGIN:VEVENT
DTSTAMP:20260423T025226Z
CREATED:20210629T081517Z
UID:ATEvent-4c6706cb4be0424f82eb33b7bb012236
LAST-MODIFIED:20210920T084212Z
SUMMARY:Messe de rentrée de l'Enseignement Catholique du Limousin
DTSTART:20210923T220000Z
DTEND:20210923T220000Z
LOCATION:Brive Saint Martin
CONTACT:Direction diocésaine de l'Enseignement Catholique
CLASS:PUBLIC
END:VEVENT
END:VCALENDAR
