BEGIN:VCALENDAR
PRODID:-//AT Content Types//AT Event//EN
VERSION:2.0
METHOD:PUBLISH
BEGIN:VEVENT
DTSTAMP:20260423T003856Z
CREATED:20190910T085627Z
UID:ATEvent-79b53efb8a324de6a80b208746278981
LAST-MODIFIED:20190910T085634Z
SUMMARY:Messe de rentrée de l’Enseignement catholique de Tulle
DTSTART:20190913T163000Z
DTEND:20190913T163000Z
DESCRIPTION:Messe présidée par Mgr Francis Bestion. Les nouveaux che
 fs d'établissement recevront leur lettre de mission.
LOCATION:Brive Saint Martin
CONTACT:05 55 30 38 74
CLASS:PUBLIC
END:VEVENT
END:VCALENDAR
