BEGIN:VCALENDAR
PRODID:-//AT Content Types//AT Event//EN
VERSION:2.0
METHOD:PUBLISH
BEGIN:VEVENT
DTSTAMP:20260420T154652Z
CREATED:20200922T073505Z
UID:ATEvent-60ceb46d3b544a5dbb450e241b5befcc
LAST-MODIFIED:20200922T073649Z
SUMMARY:Messe avec confirmations d'adultes
DTSTART:20201004T163000Z
DTEND:20201004T163000Z
DESCRIPTION:7 confirmands adultes du diocèse seront confirmés par Mg
 r Bestion.
LOCATION:Brive Saint Sernin
CONTACT:06 71 46 07 46
CLASS:PUBLIC
END:VEVENT
END:VCALENDAR
