BEGIN:VCALENDAR
PRODID:-//AT Content Types//AT Event//EN
VERSION:2.0
METHOD:PUBLISH
BEGIN:VEVENT
DTSTAMP:20260424T020827Z
CREATED:20180726T145310Z
UID:ATEvent-59cf9b8da4194223ac6063061ae7a973
LAST-MODIFIED:20180726T145317Z
SUMMARY:Marie-Madeleine et la Miséricorde Divine
DTSTART:20180803T183000Z
DTEND:20180803T183000Z
LOCATION:Aubazine abbaye
CONTACT:Abbaye d'Aubazine
CLASS:PUBLIC
END:VEVENT
END:VCALENDAR
