BEGIN:VCALENDAR
PRODID:-//AT Content Types//AT Event//EN
VERSION:1.0
BEGIN:VEVENT
DTSTART:20190120T131500Z
DTEND:20190120T230000Z
DCREATED:20190107T105022Z
UID:ATEvent-d1ceb74c68c84681a9bbbd59f1df941e
SEQUENCE:0
LAST-MODIFIED:20190107T105030Z
SUMMARY:Marche et prière autour de l'église de Noailles
DESCRIPTION:Le dimanche après-midi\, marcher ensemble dans la nature 
 si riche de notre région\, au rythme du groupe\, de temps de silence 
 et prière\, vers des églises remarquables. Rendez-vous aux grottes d
 e St Antoine Brive pour un départ en covoiturage.
LOCATION:Brive Grottes Saint Antoine
PRIORITY:3
TRANSP:0
END:VEVENT
END:VCALENDAR
