BEGIN:VCALENDAR
PRODID:-//AT Content Types//AT Event//EN
VERSION:2.0
METHOD:PUBLISH
BEGIN:VEVENT
DTSTAMP:20260420T011507Z
CREATED:20201013T075110Z
UID:ATEvent-3dde628bd6064f6399bc70372047bc7b
LAST-MODIFIED:20201013T075124Z
SUMMARY:Marche des saints
DTSTART:20201031T140000Z
DTEND:20201031T140000Z
DESCRIPTION:A l’occasion de la fête de la Toussaint\, les A.F.C. de
  Corrèze vous proposent de venir nous retrouver le 31 octobre 2020. L
 es enfants qui le désirent\, viennent déguisés en leur saint patron
 \, avec leurs parents...
LOCATION:Brive Collégiale Saint Martin
CONTACT:A.F.C. Corrèze\, afc.correze@yahoo.fr
CLASS:PUBLIC
END:VEVENT
END:VCALENDAR
