BEGIN:VCALENDAR
PRODID:-//AT Content Types//AT Event//EN
VERSION:2.0
METHOD:PUBLISH
BEGIN:VEVENT
DTSTAMP:20260419T133314Z
CREATED:20201207T083554Z
UID:ATEvent-ccd10344c4014f6c9ffcb8d65afb6d0d
LAST-MODIFIED:20201214T154729Z
SUMMARY:Marché de Noël d'Ussac
DTSTART:20201216T133000Z
DTEND:20201216T160000Z
DESCRIPTION:Le marché de Noël d’Ussac pourra se tenir dans la sall
 e Saint-Julien\, rue principale\, dans le respect des gestes barrière
 s :\n\n- mercredi 16 décembre de 14h30 à 17h
LOCATION:Ussac salle Saint Julien
CLASS:PUBLIC
END:VEVENT
END:VCALENDAR
