BEGIN:VCALENDAR
PRODID:-//AT Content Types//AT Event//EN
VERSION:1.0
BEGIN:VEVENT
DTSTART:20191206T230000Z
DTEND:20191207T230000Z
DCREATED:20191120T132252Z
UID:ATEvent-ab180a034c7d4086867bc291a9a1e120
SEQUENCE:0
LAST-MODIFIED:20191120T132259Z
SUMMARY:Marché de Noël à l'église des Rosiers Brive
DESCRIPTION:Le samedi 7 décembre 2019 de 14:00 à 18:00 - Le dimanche
  8 décembre 2019 de 09:00 à 11:00 et de 12:00 à 18:00. En vente dé
 coration pour les fêtes\, spécialité régionales et portugaises\, a
 rtisanat.
LOCATION:Brive église des Rosiers
PRIORITY:3
TRANSP:0
END:VEVENT
END:VCALENDAR
