BEGIN:VCALENDAR
PRODID:-//AT Content Types//AT Event//EN
VERSION:2.0
METHOD:PUBLISH
BEGIN:VEVENT
DTSTAMP:20260419T133213Z
CREATED:20231123T095416Z
UID:ATEvent-64f3e69883194ae0be79be31e3461fb1
LAST-MODIFIED:20231123T095423Z
SUMMARY:Marché de Noël
DTSTART:20231201T090000Z
DTEND:20231206T170000Z
DESCRIPTION:Le marché de Noël artisanal sera essentiellement achalan
 dé de produits et d’objets confectionnés par des Ussacois : crèch
 es de Noël\, décorations\, couronnes\, centres de table\, pâtisseri
 es\, chocolats\, confitures d’oranges\, de citrons\, bijoux fait mai
 n et de nombreuses nouveautés. Venez nombreux\, nous vous accueillero
 ns avec beaucoup de plaisir et de joie,
LOCATION:Ussac 13 rue principale
CONTACT:ernoult@atcm.com
CLASS:PUBLIC
END:VEVENT
END:VCALENDAR
