BEGIN:VCALENDAR
PRODID:-//AT Content Types//AT Event//EN
VERSION:2.0
METHOD:PUBLISH
BEGIN:VEVENT
DTSTAMP:20260419T205144Z
CREATED:20180925T074554Z
UID:ATEvent-c3d4a6ecf0dd4a9c89d83954aa96512f
LAST-MODIFIED:20181105T082515Z
SUMMARY:"L'homme croyant selon les prophètes" avec le Père Cyprien Comte
DTSTART:20181108T194500Z
DTEND:20181108T194500Z
DESCRIPTION:En partenariat avec l'Institut Catholique de Toulouse\, l'
 Espace Saint Martin propose une conférence biblique soit à Tulle\, s
 oit à Brive. On peut participer à l'une ou l'autre selon ses possibi
 lités.
LOCATION:Brive Sacré-Coeur des Rosiers
CONTACT:Catherine Faucher\, 06 87 42 47 53\, c.faucher19@orange.fr
CLASS:PUBLIC
END:VEVENT
END:VCALENDAR
