BEGIN:VCALENDAR
PRODID:-//AT Content Types//AT Event//EN
VERSION:2.0
METHOD:PUBLISH
BEGIN:VEVENT
DTSTAMP:20260419T171514Z
CREATED:20180608T092420Z
UID:ATEvent-3c87a6dfe8f94407bda5b1d918e2ec84
LAST-MODIFIED:20180608T092428Z
SUMMARY:Les Petits Chanteurs vous invitent à fêter Saint Antoine
DTSTART:20180613T130000Z
DTEND:20180613T130000Z
DESCRIPTION:Un concert événement pour Fêter Saint Antoine\, à part
 ager avec Les Petits Chanteurs de la Maîtrise de l’Ensemble Scolair
 e Edmond Michelet.
LOCATION:Brive Grottes Saint Antoine
CONTACT:Grottes Saint Antoine
CLASS:PUBLIC
END:VEVENT
END:VCALENDAR
