BEGIN:VCALENDAR
PRODID:-//AT Content Types//AT Event//EN
VERSION:2.0
METHOD:PUBLISH
BEGIN:VEVENT
DTSTAMP:20260421T060206Z
CREATED:20230605T080849Z
UID:ATEvent-1a1ae5d69fb04536b49648fff87102bb
LAST-MODIFIED:20230605T080905Z
SUMMARY:Le Portique : philosophie pour tous
DTSTART:20230613T220000Z
DTEND:20230613T220000Z
DESCRIPTION:Le Portique : philosophie pour tous\, soit de 16h à 17h30
 \, ou de 20h15 à 21h45. Dans cette troisième édition\, nous continu
 ons la réflexion sur certains sujets qu’interroge\nl’homme d’au
 jourd’hui. Par le biais d’un choix de textes\, nous réfléchirons
  à la pensée de philosophes contemporains et autres. Ceux sont eux q
 ui nous attendent au seuil d’un même\nportique\, celui de la philos
 ophie pour tous. Animé par frère Carlos Gutierrez.
LOCATION:Brive Grottes Saint Antoine
CONTACT:05 55 24 10 60\, hotellerie@fratgsa.org
CLASS:PUBLIC
END:VEVENT
END:VCALENDAR
