BEGIN:VCALENDAR
PRODID:-//AT Content Types//AT Event//EN
VERSION:2.0
METHOD:PUBLISH
BEGIN:VEVENT
DTSTAMP:20260421T173353Z
CREATED:20181030T140308Z
UID:ATEvent-ce531fe9162c4fe8af3a5f732d7c61b6
LAST-MODIFIED:20181030T140400Z
SUMMARY:Le parcours d'un enfant du pays de Brive
DTSTART:20181109T193000Z
DTEND:20181109T193000Z
DESCRIPTION:Les Amis de la Vie\, à l’occasion de la Foire du Livre 
 de Brive\, ont invité Georges Delcros à venir parler de son attachem
 ent à l’écriture\, de son parcours d’auteur\, du monde de l’é
 dition\, de ses attentes\, de ses rencontres d’écrivain\, de l’ac
 cueil du public depuis la sortie de ses deux ouvrages.
LOCATION:Brive 56 avenue du Maréchal Bugeaud
CONTACT:05 55 74 37 84
CLASS:PUBLIC
END:VEVENT
END:VCALENDAR
