BEGIN:VCALENDAR
PRODID:-//AT Content Types//AT Event//EN
VERSION:1.0
BEGIN:VEVENT
DTSTART:20200622T160000Z
DTEND:20200628T120000Z
DCREATED:20190920T085844Z
UID:ATEvent-78482046396a4c908c3d4bf1d7451f3a
SEQUENCE:0
LAST-MODIFIED:20200525T095651Z
SUMMARY:La Parole qui guérit - Annulée
DESCRIPTION:Retraite longue animée par Fr Nicolas Morin (en fraternit
 é à Besançon et exorciste diocésain) .
LOCATION:Brive Grottes St Antoine
PRIORITY:3
TRANSP:0
END:VEVENT
END:VCALENDAR
