BEGIN:VCALENDAR
PRODID:-//AT Content Types//AT Event//EN
VERSION:1.0
BEGIN:VEVENT
DTSTART:20211219T100000Z
DTEND:20211219T100000Z
DCREATED:20211216T102725Z
UID:ATEvent-d1d7a5185ad9443189a2ef64fbefe33e
SEQUENCE:0
LAST-MODIFIED:20211216T102816Z
SUMMARY:La Lumière de Bethléem arrive à Tulle
DESCRIPTION:Cette année les Scouts & Guides de France de Tulle partag
 eront la lumière de Bethléem lors de la messe du dimanche 19 décemb
 re 2021 à 11h à la Cathédrale. Elle restera au pied de la crèche j
 usqu'à l'Epiphanie afin que chacun puisse la récupérer et la diffus
 er autour de lui.
LOCATION:Tulle (Cathédrale)
PRIORITY:3
TRANSP:0
END:VEVENT
END:VCALENDAR
