BEGIN:VCALENDAR
PRODID:-//AT Content Types//AT Event//EN
VERSION:1.0
BEGIN:VEVENT
DTSTART:20220611T080000Z
DTEND:20220611T150000Z
DCREATED:20220603T091430Z
UID:ATEvent-b2d44308da454634b560fb01cf807cf4
SEQUENCE:0
LAST-MODIFIED:20220603T091436Z
SUMMARY:Kermesse de l'Ensemble scolaire N.D.de la Providence Ussel
DESCRIPTION:L'ensemble scolaire Notre-Dame de la Providence fait sa ke
 rmesse.
LOCATION:Ussel ensemble scolaire N.D. de la Providence
PRIORITY:3
TRANSP:0
END:VEVENT
END:VCALENDAR
