BEGIN:VCALENDAR
PRODID:-//AT Content Types//AT Event//EN
VERSION:2.0
METHOD:PUBLISH
BEGIN:VEVENT
DTSTAMP:20260423T025224Z
CREATED:20220701T071000Z
UID:ATEvent-40dd00defbac46c9b3b0d9a3be2ad0d4
LAST-MODIFIED:20220701T071008Z
SUMMARY:Jubilé d'or de l'abbé Jean-François Deroy
DTSTART:20220815T073000Z
DTEND:20220815T130000Z
DESCRIPTION:L'abbé J.François Deroy fêtera son jubilé d'or sacerdo
 tal. Procession mariale\, messe\, verre de l'amitié\, buffet....
LOCATION:Saint Aulaire
CONTACT:06 0740 56 89\, jubile50jfd@gmail.com
CLASS:PUBLIC
END:VEVENT
END:VCALENDAR
