BEGIN:VCALENDAR
PRODID:-//AT Content Types//AT Event//EN
VERSION:1.0
BEGIN:VEVENT
DTSTART:20170916T070000Z
DTEND:20170917T160000Z
DCREATED:20170907T091133Z
UID:ATEvent-8b22bdd084ee402ca3f92a26bd5ea4e9
SEQUENCE:0
LAST-MODIFIED:20170912T081934Z
SUMMARY:Journées du Patrimoine 2017
LOCATION:ALTILLAC - ARNAC - BRIVE - CORREZE - ORLIAC DE BAR - SAINT MARTIAL ENTRAYGUES -TULLE
PRIORITY:3
TRANSP:0
END:VEVENT
END:VCALENDAR
